BEGIN:VCALENDAR
VERSION:2.0
PRODID:-//Maison des jeunes Saint-Lin Laurentides - ECPv5.4.0.1//NONSGML v1.0//EN
CALSCALE:GREGORIAN
METHOD:PUBLISH
X-WR-CALNAME:Maison des jeunes Saint-Lin Laurentides
X-ORIGINAL-URL:https://mdjsaintlin.ca
X-WR-CALDESC:évènements pour Maison des jeunes Saint-Lin Laurentides
BEGIN:VTIMEZONE
TZID:Europe/Paris
BEGIN:DAYLIGHT
TZOFFSETFROM:+0100
TZOFFSETTO:+0200
TZNAME:CEST
DTSTART:20260329T010000
END:DAYLIGHT
BEGIN:STANDARD
TZOFFSETFROM:+0200
TZOFFSETTO:+0100
TZNAME:CET
DTSTART:20261025T010000
END:STANDARD
END:VTIMEZONE
BEGIN:VEVENT
DTSTART;TZID=Europe/Paris:20260327T180000
DTEND;TZID=Europe/Paris:20260327T213000
DTSTAMP:20260422T231950
CREATED:20260305T153741Z
LAST-MODIFIED:20260305T153741Z
UID:1359-1774634400-1774647000@mdjsaintlin.ca
SUMMARY:Souper de cabane à sucre
DESCRIPTION:
URL:https://mdjsaintlin.ca/event/souper-de-cabane-a-sucre/
END:VEVENT
END:VCALENDAR