BEGIN:VCALENDAR
VERSION:2.0
PRODID:-//Maison des jeunes Saint-Lin Laurentides - ECPv5.4.0.1//NONSGML v1.0//EN
CALSCALE:GREGORIAN
METHOD:PUBLISH
X-WR-CALNAME:Maison des jeunes Saint-Lin Laurentides
X-ORIGINAL-URL:https://mdjsaintlin.ca
X-WR-CALDESC:évènements pour Maison des jeunes Saint-Lin Laurentides
BEGIN:VTIMEZONE
TZID:Europe/Paris
BEGIN:DAYLIGHT
TZOFFSETFROM:+0100
TZOFFSETTO:+0200
TZNAME:CEST
DTSTART:20260329T010000
END:DAYLIGHT
BEGIN:STANDARD
TZOFFSETFROM:+0200
TZOFFSETTO:+0100
TZNAME:CET
DTSTART:20261025T010000
END:STANDARD
END:VTIMEZONE
BEGIN:VEVENT
DTSTART;TZID=Europe/Paris:20260422T180000
DTEND;TZID=Europe/Paris:20260422T210000
DTSTAMP:20260422T150902
CREATED:20260410T160903Z
LAST-MODIFIED:20260410T160903Z
UID:1400-1776880800-1776891600@mdjsaintlin.ca
SUMMARY:Playlist de groupe
DESCRIPTION:
URL:https://mdjsaintlin.ca/event/playlist-de-groupe/
END:VEVENT
BEGIN:VEVENT
DTSTART;TZID=Europe/Paris:20260423T180000
DTEND;TZID=Europe/Paris:20260423T210000
DTSTAMP:20260422T150902
CREATED:20260410T161049Z
LAST-MODIFIED:20260410T161049Z
UID:1404-1776967200-1776978000@mdjsaintlin.ca
SUMMARY:Thématiques habitudes de vie
DESCRIPTION:
URL:https://mdjsaintlin.ca/event/thematiques-habitudes-de-vie/
END:VEVENT
BEGIN:VEVENT
DTSTART;TZID=Europe/Paris:20260424T180000
DTEND;TZID=Europe/Paris:20260424T210000
DTSTAMP:20260422T150902
CREATED:20260410T162057Z
LAST-MODIFIED:20260410T162057Z
UID:1406-1777053600-1777064400@mdjsaintlin.ca
SUMMARY:Recette!
DESCRIPTION:
URL:https://mdjsaintlin.ca/event/recette-8/
END:VEVENT
BEGIN:VEVENT
DTSTART;TZID=Europe/Paris:20260425T180000
DTEND;TZID=Europe/Paris:20260425T210000
DTSTAMP:20260422T150902
CREATED:20260410T162126Z
LAST-MODIFIED:20260410T162126Z
UID:1408-1777140000-1777150800@mdjsaintlin.ca
SUMMARY:Qui suis-je?
DESCRIPTION:
URL:https://mdjsaintlin.ca/event/qui-suis-je/
END:VEVENT
BEGIN:VEVENT
DTSTART;TZID=Europe/Paris:20260427T180000
DTEND;TZID=Europe/Paris:20260427T210000
DTSTAMP:20260422T150902
CREATED:20260410T162202Z
LAST-MODIFIED:20260410T162202Z
UID:1410-1777312800-1777323600@mdjsaintlin.ca
SUMMARY:Pour ou Contre?
DESCRIPTION:
URL:https://mdjsaintlin.ca/event/pour-ou-contre/
END:VEVENT
BEGIN:VEVENT
DTSTART;TZID=Europe/Paris:20260428T180000
DTEND;TZID=Europe/Paris:20260428T210000
DTSTAMP:20260422T150902
CREATED:20260410T162231Z
LAST-MODIFIED:20260410T162231Z
UID:1412-1777399200-1777410000@mdjsaintlin.ca
SUMMARY:Thématique Préparation au travail
DESCRIPTION:
URL:https://mdjsaintlin.ca/event/thematique-preparation-au-travail/
END:VEVENT
BEGIN:VEVENT
DTSTART;TZID=Europe/Paris:20260429T180000
DTEND;TZID=Europe/Paris:20260429T210000
DTSTAMP:20260422T150902
CREATED:20260410T162257Z
LAST-MODIFIED:20260410T162257Z
UID:1414-1777485600-1777496400@mdjsaintlin.ca
SUMMARY:Tournoi de Jeux de société
DESCRIPTION:
URL:https://mdjsaintlin.ca/event/tournoi-de-jeux-de-societe-2/
END:VEVENT
BEGIN:VEVENT
DTSTART;TZID=Europe/Paris:20260430T180000
DTEND;TZID=Europe/Paris:20260430T210000
DTSTAMP:20260422T150902
CREATED:20260410T162324Z
LAST-MODIFIED:20260410T162324Z
UID:1416-1777572000-1777582800@mdjsaintlin.ca
SUMMARY:Thématique Motivation scolaire
DESCRIPTION:
URL:https://mdjsaintlin.ca/event/thematique-motivation-scolaire/
END:VEVENT
END:VCALENDAR